BEGIN:VCALENDAR
VERSION:2.0
METHOD:PUBLISH
X-WR-CALNAME:ATISAL | Abril 20 2012-Abril 20 2012
PRODID:-//strange bird labs//Drupal iCal API//EN
BEGIN:VEVENT
DTSTAMP;VALUE=DATE-TIME:20260422T191959Z
DTSTART;VALUE=DATE-TIME:20120416T140000Z
DTEND;VALUE=DATE-TIME:20120425T180000Z
UID:http://www.atisal.com/curso-3d-2012
URL;VALUE=URI:http://www.atisal.com/curso-3d-2012
SUMMARY:Curso fundamentos de modelado y animacion con 3D STUDIO MAX
DESCRIPTION:<p style=\\"text-align\: justify\;\\">En ATISAL os informamos que ya podéis apuntaros al “<strong>Curso fundamentos de modelado y animación con 3D STUDIO MAX</strong>”\, impartido por <strong>D. Jorge Bretones</strong> en los días 16\, 17\, 18\, 23\, 24 y 25 de abril por la tarde en la Universidad de  Almería. Os recomendamos apuntaros cuanto antes\, puesto que este curso está limitado a un máximo de 20 participantes.</p><p style=\\"text-align\: justify\;\\">El coste del curso será de 10 euros para los socios de ATISAL que se  hayan inscrito este año o hayan renovado su inscripción\, y 20 euros  para todo el resto de personas interesadas en inscribirse. Para  apuntarse al curso tendréis que enviar un email a <strong>atisal@ual.es</strong> con vuestro nombre\,  apellidos y DNI\, posteriormente os responderemos dando el numero de  cuenta al que hacer el ingreso o el día que podéis pasar a realizar el  pago en la sede de la asociación.</p>
END:VEVENT
END:VCALENDAR
